BEGIN:VCALENDAR
VERSION:2.0
PRODID:-//WA Women’s Foundation - ECPv6.15.18//NONSGML v1.0//EN
CALSCALE:GREGORIAN
METHOD:PUBLISH
X-WR-CALNAME:WA Women’s Foundation
X-ORIGINAL-URL:https://wawomensfdn.org
X-WR-CALDESC:Events for WA Women’s Foundation
REFRESH-INTERVAL;VALUE=DURATION:PT1H
X-Robots-Tag:noindex
X-PUBLISHED-TTL:PT1H
BEGIN:VTIMEZONE
TZID:America/Vancouver
BEGIN:DAYLIGHT
TZOFFSETFROM:-0800
TZOFFSETTO:-0700
TZNAME:PDT
DTSTART:20240310T100000
END:DAYLIGHT
BEGIN:STANDARD
TZOFFSETFROM:-0700
TZOFFSETTO:-0800
TZNAME:PST
DTSTART:20241103T090000
END:STANDARD
BEGIN:DAYLIGHT
TZOFFSETFROM:-0800
TZOFFSETTO:-0700
TZNAME:PDT
DTSTART:20250309T100000
END:DAYLIGHT
BEGIN:STANDARD
TZOFFSETFROM:-0700
TZOFFSETTO:-0800
TZNAME:PST
DTSTART:20251102T090000
END:STANDARD
BEGIN:DAYLIGHT
TZOFFSETFROM:-0800
TZOFFSETTO:-0700
TZNAME:PDT
DTSTART:20260308T100000
END:DAYLIGHT
BEGIN:STANDARD
TZOFFSETFROM:-0700
TZOFFSETTO:-0800
TZNAME:PST
DTSTART:20261101T090000
END:STANDARD
END:VTIMEZONE
BEGIN:VEVENT
DTSTART;TZID=America/Vancouver:20251001T160000
DTEND;TZID=America/Vancouver:20251001T170000
DTSTAMP:20260422T054429
CREATED:20250804T190355Z
LAST-MODIFIED:20250804T190355Z
UID:10000251-1759334400-1759338000@wawomensfdn.org
SUMMARY:Let's Talk: Becoming a Member (OPEN TO ALL)
DESCRIPTION:Join us for Let’s Talk: Becoming a Member to learn more about what it means to be a Washington Women’s Foundation member. This 1-hour virtual session will include a brief look at our grantmaking and education programs\, followed by a look at the member experience on Wednesday\, October 1st at 4PM on zoom. \nIf you’re already a member and have a friend or colleague that is interested in membership\, invite them to join you for this virtual conversation! Join this session to share why you love Washington Women’s Foundation. \nClick here to register for Let’s Talk: Becoming a Member!\nPlease email programs@wawomensfdn.org with any questions! 
URL:https://wawomensfdn.org/event/lets-talk-becoming-a-member-open-to-all-14/
LOCATION:Virtual
ORGANIZER;CN="Washington Women's Foundation":MAILTO:membership@wawomensfdn.org
END:VEVENT
BEGIN:VEVENT
DTSTART;TZID=America/Vancouver:20251014T120000
DTEND;TZID=America/Vancouver:20251014T130000
DTSTAMP:20260422T054429
CREATED:20250916T183523Z
LAST-MODIFIED:20250916T185336Z
UID:10000254-1760443200-1760446800@wawomensfdn.org
SUMMARY:PopUp Table Hosting Basics (OPEN TO ALL)
DESCRIPTION:The WaWF PopUP! for Women & Girls is an interactive\, annual event where community members join forces with the Women and Girls Grant committee to collectively select grantees for the year. Not only do we hope you’ll attend this fast-paced\, joyful event\, but we hope you’ll bring your family\, friends\, and/or colleagues. \nJoin WaWF member and W&G committee co-Chair\, Sasha Summer Cousineau\, for a brief zoom conversation to learn more about this extremely unique and fun event\, it’s benefits to WaWF and our grantees\, and simple skills for successfully hosting a table. \nClick here to register for PopUp Table Hosting Basics! \nThis virtual session will be 45-60 minutes and allow time for open discussion and questions. Please direct questions to programs@wawomensfdn.org. 
URL:https://wawomensfdn.org/event/popup-table-hosting-basics-open-to-all/
LOCATION:Virtual
ORGANIZER;CN="Washington Women's Foundation":MAILTO:membership@wawomensfdn.org
END:VEVENT
BEGIN:VEVENT
DTSTART;TZID=America/Vancouver:20251022T120000
DTEND;TZID=America/Vancouver:20251022T131500
DTSTAMP:20260422T054429
CREATED:20250804T182914Z
LAST-MODIFIED:20251016T205357Z
UID:10000250-1761134400-1761138900@wawomensfdn.org
SUMMARY:2025 Annual Meeting (MEMBERS ONLY)
DESCRIPTION:Join us for the WaWF Annual Meeting on Wednesday\, October 22nd from 12:00-1:15. We’ll reflect together on this past year of transformation and learning\, discuss the possibilities and challenges coming our way and vote on our slate of new and renewing board members. \nThe Annual Meeting is a members only event. It will be accessible by zoom\, we’ve reached capacity for in-person attendance.  \nPlease email programs@wawomensfdn.org with any questions.  \nClick here to register for the 2025 Annual Meeting!
URL:https://wawomensfdn.org/event/2025-annual-meeting-members-only/
LOCATION:Inatai Foundation Offices\, 1301 5th Avenue\, Suite 2600\, Seattle\, 98101
ORGANIZER;CN="Washington Women's Foundation":MAILTO:membership@wawomensfdn.org
END:VEVENT
END:VCALENDAR