BEGIN:VCALENDAR
VERSION:2.0
PRODID:-//WA Women’s Foundation - ECPv6.15.18//NONSGML v1.0//EN
CALSCALE:GREGORIAN
METHOD:PUBLISH
X-WR-CALNAME:WA Women’s Foundation
X-ORIGINAL-URL:https://wawomensfdn.org
X-WR-CALDESC:Events for WA Women’s Foundation
REFRESH-INTERVAL;VALUE=DURATION:PT1H
X-Robots-Tag:noindex
X-PUBLISHED-TTL:PT1H
BEGIN:VTIMEZONE
TZID:America/Vancouver
BEGIN:DAYLIGHT
TZOFFSETFROM:-0800
TZOFFSETTO:-0700
TZNAME:PDT
DTSTART:20240310T100000
END:DAYLIGHT
BEGIN:STANDARD
TZOFFSETFROM:-0700
TZOFFSETTO:-0800
TZNAME:PST
DTSTART:20241103T090000
END:STANDARD
BEGIN:DAYLIGHT
TZOFFSETFROM:-0800
TZOFFSETTO:-0700
TZNAME:PDT
DTSTART:20250309T100000
END:DAYLIGHT
BEGIN:STANDARD
TZOFFSETFROM:-0700
TZOFFSETTO:-0800
TZNAME:PST
DTSTART:20251102T090000
END:STANDARD
BEGIN:DAYLIGHT
TZOFFSETFROM:-0800
TZOFFSETTO:-0700
TZNAME:PDT
DTSTART:20260308T100000
END:DAYLIGHT
BEGIN:STANDARD
TZOFFSETFROM:-0700
TZOFFSETTO:-0800
TZNAME:PST
DTSTART:20261101T090000
END:STANDARD
END:VTIMEZONE
BEGIN:VEVENT
DTSTART;TZID=America/Vancouver:20250914T170000
DTEND;TZID=America/Vancouver:20250914T200000
DTSTAMP:20260424T051706
CREATED:20250626T230309Z
LAST-MODIFIED:20250813T202636Z
UID:10000247-1757869200-1757880000@wawomensfdn.org
SUMMARY:September Seattle Reign Game (MEMBERS + FRIENDS)
DESCRIPTION:Join the WaWF community on Sunday\, September 14th to watch the Seattle Reign FC play at 5PM in the evening. It’s an opportunity to see world class players and enjoy social time with the WaWF community. WaWF has reserved a block of tickets\, click the link below to purchase yours today and bring your family or friends. \nClick here to register for the September Reign Game!\nThis is a Members + Friends opportunity. Please email programs@wawomensfdn.org with questions.
URL:https://wawomensfdn.org/event/september-ol-reign-game-members-friends/
LOCATION:Lumen Field\, 800 Occidental Ave S\, Seattle\, United States
ORGANIZER;CN="Washington Women's Foundation":MAILTO:membership@wawomensfdn.org
END:VEVENT
BEGIN:VEVENT
DTSTART;TZID=America/Vancouver:20250926T100000
DTEND;TZID=America/Vancouver:20250926T160000
DTSTAMP:20260424T051706
CREATED:20250626T233844Z
LAST-MODIFIED:20250827T175631Z
UID:10000248-1758880800-1758902400@wawomensfdn.org
SUMMARY:Convening 2025 (OPEN TO ALL)
DESCRIPTION:Join us for the Washington Women’s Foundation (WaWF) fourth annual Convening on Friday\, September 26th\, 2025! The Convening is a call to action that every year brings together speakers\, writers\, thinkers\, community leaders and essential nonprofit directors to educate the WaWF community on the most pressing concerns in Washington. \nOur themes for Convening 2025 are The State of Women in Washington\, Advocacy + Philanthropy\, and Current Political Climate + Nonprofits . Together\, we will learn from these experts\, changemakers\, and community organizers driving equitable\, transformative solutions to Washington’s most pressing challenges. \nConvening 2025 will be held in person at the The Collective in South Lake Union\, from approximately 9:00 am to 4:00 pm with lunch included. The Convening will include three seventy-minute panels with time for discussion during the day. The event is open to the entire community. \nThis event has reached capacity! Please email programs@wawomensfdn.org to be added to the waitlist.\nConvening is free and open to all. We encourage you to think about choosing a ticket price for food and beverages that aligns with your ability to give. If you’re able to contribute more and pay for another’s lunch\, we appreciate your ability to care for your neighbor in this way.
URL:https://wawomensfdn.org/event/convening-2025-open-to-all/
LOCATION:The Collective Seattle\, 400 Dexter Ave N ste 100\, Seattle\, WA
ORGANIZER;CN="Washington Women's Foundation":MAILTO:membership@wawomensfdn.org
END:VEVENT
END:VCALENDAR