BEGIN:VCALENDAR
VERSION:2.0
PRODID:-//WA Women’s Foundation - ECPv6.15.18//NONSGML v1.0//EN
CALSCALE:GREGORIAN
METHOD:PUBLISH
X-WR-CALNAME:WA Women’s Foundation
X-ORIGINAL-URL:https://wawomensfdn.org
X-WR-CALDESC:Events for WA Women’s Foundation
REFRESH-INTERVAL;VALUE=DURATION:PT1H
X-Robots-Tag:noindex
X-PUBLISHED-TTL:PT1H
BEGIN:VTIMEZONE
TZID:America/Vancouver
BEGIN:DAYLIGHT
TZOFFSETFROM:-0800
TZOFFSETTO:-0700
TZNAME:PDT
DTSTART:20250309T100000
END:DAYLIGHT
BEGIN:STANDARD
TZOFFSETFROM:-0700
TZOFFSETTO:-0800
TZNAME:PST
DTSTART:20251102T090000
END:STANDARD
BEGIN:DAYLIGHT
TZOFFSETFROM:-0800
TZOFFSETTO:-0700
TZNAME:PDT
DTSTART:20260308T100000
END:DAYLIGHT
BEGIN:STANDARD
TZOFFSETFROM:-0700
TZOFFSETTO:-0800
TZNAME:PST
DTSTART:20261101T090000
END:STANDARD
BEGIN:DAYLIGHT
TZOFFSETFROM:-0800
TZOFFSETTO:-0700
TZNAME:PDT
DTSTART:20270314T100000
END:DAYLIGHT
BEGIN:STANDARD
TZOFFSETFROM:-0700
TZOFFSETTO:-0800
TZNAME:PST
DTSTART:20271107T090000
END:STANDARD
END:VTIMEZONE
BEGIN:VEVENT
DTSTART;TZID=America/Vancouver:20260504T120000
DTEND;TZID=America/Vancouver:20260504T130000
DTSTAMP:20260422T034633
CREATED:20260421T180332Z
LAST-MODIFIED:20260421T180332Z
UID:10000267-1777896000-1777899600@wawomensfdn.org
SUMMARY:Let's Talk: WaWF Membership (OPEN TO ALL)
DESCRIPTION:Join us for Let’s Talk: Becoming a Member to learn more about what it means to be a Washington Women’s Foundation member. This 1-hour virtual session will include a brief look at our grantmaking and education programs\, followed by a look at the member experience on Monday\, May 4th at 12:00pm. \nIf you’re already a member and have a friend or colleague that is interested in membership\, invite them to join you for this virtual conversation. Join this session to share why you love Washington Women’s Foundation. \nClick here to register for Let’s Talk: Membership!\nPlease email programs@wawomensfdn.org with any questions! 
URL:https://wawomensfdn.org/event/lets-talk-wawf-membership-open-to-all/
LOCATION:Virtual
ORGANIZER;CN="Washington Women's Foundation":MAILTO:membership@wawomensfdn.org
END:VEVENT
BEGIN:VEVENT
DTSTART;TZID=America/Vancouver:20260507T120000
DTEND;TZID=America/Vancouver:20260507T133000
DTSTAMP:20260422T034633
CREATED:20260401T225612Z
LAST-MODIFIED:20260401T225612Z
UID:10000265-1778155200-1778160600@wawomensfdn.org
SUMMARY:Board Service Info Session (MEMBERS ONLY)
DESCRIPTION:Come learn more about board service and the recruitment process at the Foundation. The WaWF Board of Directors is currently recruiting for board service\, set to begin in 2027. Join us on Thursday\, May 7th\, to hear more. This event will happen virtually\, over zoom. \nHosted by the Governance Committee. This session is only open to WaWF members and will be recorded for members unable to make it. \nClick here to register for Board Service Info Session!\nPlease email aruvc@hotmail.com with any questions.
URL:https://wawomensfdn.org/event/board-service-info-session-members-only-2/
LOCATION:Virtual
ORGANIZER;CN="Washington Women's Foundation":MAILTO:membership@wawomensfdn.org
END:VEVENT
BEGIN:VEVENT
DTSTART;TZID=America/Vancouver:20260514T120000
DTEND;TZID=America/Vancouver:20260514T130000
DTSTAMP:20260422T034633
CREATED:20260421T180923Z
LAST-MODIFIED:20260421T180923Z
UID:10000268-1778760000-1778763600@wawomensfdn.org
SUMMARY:New Member Orientation (MEMBERS ONLY)
DESCRIPTION:Calling all new Washington Women’s Foundation (WaWF) members! Join staff and long-time members for a New Member Orientation\, where we’ll build community so we can better amplify the power of women’s collective giving. \nIn this session\, new members will learn about WaWF’s values and community norms\, our approach to philanthropy\, the equity lens we bring to our programming\, how to get involved in different committees\, ways to build community with other new members\, and our staff who are here to support you in this work. \nClick here to register for the New Member Orientation!\nThis virtual\, members only session is Thursday\, May 14th at 12:00pm on zoom.  \nPlease email programs@wawomensfdn.org with any questions.
URL:https://wawomensfdn.org/event/new-member-orientation-members-only-12/
LOCATION:Virtual
ORGANIZER;CN="Washington Women's Foundation":MAILTO:membership@wawomensfdn.org
END:VEVENT
BEGIN:VEVENT
DTSTART;TZID=America/Vancouver:20260519T120000
DTEND;TZID=America/Vancouver:20260519T133000
DTSTAMP:20260422T034633
CREATED:20260406T140621Z
LAST-MODIFIED:20260421T174732Z
UID:10000266-1779192000-1779197400@wawomensfdn.org
SUMMARY:State of the Union: Women & Girls in Crisis (OPEN TO ALL)
DESCRIPTION:Join us for an essential conversation about the current state of funding and services for women and girls in our community. This collaborative Lunch & Learn brings together leading organizations serving survivors of violence\, native communities\, and immigrant populations to share critical insights with funders\, foundations\, and philanthropists who are committed to making a difference. \nThis is a critical moment for women and girls in our community. With federal funding under threat\, increasing barriers for immigrant survivors\, and persistent gaps in housing and support services\, the need for philanthropic leadership has never been greater. This event will provide funders with a transparent\, comprehensive understanding of: \n\nThe full scope of violence against women and girls in our region\nCurrent funding landscape and HUD/housing funding challenges\nUnique barriers faced by immigrant survivors (including ICE enforcement impacts)\nCrisis facing native women and missing and murdered indigenous women\nTangible ways donors can make an immediate impact\n\nThis event will take place in-person on Tuesday\, May 19th\, at TBD and is open to all. Lunch will be provided\, please bring a friend. \nClick here to register!\nPlease email programs@wawomensfdn.org with any questions.
URL:https://wawomensfdn.org/event/state-of-the-union-women-girls-in-crisis-open-to-all/
ORGANIZER;CN="Washington Women's Foundation":MAILTO:membership@wawomensfdn.org
END:VEVENT
END:VCALENDAR